BEGIN:VCALENDAR
VERSION:2.0
PRODID:-//The Jazz and Blues Market - ECPv6.13.2.1//NONSGML v1.0//EN
CALSCALE:GREGORIAN
METHOD:PUBLISH
X-WR-CALNAME:The Jazz and Blues Market
X-ORIGINAL-URL:https://jazzandbluesmarket.com
X-WR-CALDESC:Events for The Jazz and Blues Market
REFRESH-INTERVAL;VALUE=DURATION:PT1H
X-Robots-Tag:noindex
X-PUBLISHED-TTL:PT1H
BEGIN:VTIMEZONE
TZID:UTC
BEGIN:STANDARD
TZOFFSETFROM:+0000
TZOFFSETTO:+0000
TZNAME:UTC
DTSTART:20250101T000000
END:STANDARD
END:VTIMEZONE
BEGIN:VEVENT
DTSTART;TZID=UTC:20251221T193000
DTEND;TZID=UTC:20251221T193000
DTSTAMP:20260421T085141
CREATED:20250707T093332Z
LAST-MODIFIED:20251222T180301Z
UID:383-1766345400-1766345400@jazzandbluesmarket.com
SUMMARY:Lindsey Webster
DESCRIPTION:“Webster is soulful\, authentic and belongs on the short list of new talents keeping the tradition alive and taking it to the next level\,” states ALL ABOUT JAZZ. “Classy\, consistent\, and exceptional. Those three words characterize contemporary jazz singer-songwriter Lindsey Webster\,” says POPMATTERS. “Blows everything out of the water\,” raves BBC RADIO.
URL:https://jazzandbluesmarket.com/event/lindsey-webster/
LOCATION:New Orleans Jazz Market\, 1436 Oretha Castle Haley Boulevard\, New Orleans\, 70113\, United States Of America
CATEGORIES:Featured
ATTACH;FMTTYPE=image/jpeg:https://jazzandbluesmarket.com/wp-content/uploads/2025/07/7c1d97b9-2f57-438d-80ef-f0bedfbaeb67_RETINA_LANDSCAPE_16_9-uKtjL1.jpg
END:VEVENT
END:VCALENDAR